BEGIN:VCALENDAR
VERSION:2.0
PRODID:-//Federación de Asociaciones Vecinales de Valladolid - ECPv6.15.20//NONSGML v1.0//EN
CALSCALE:GREGORIAN
METHOD:PUBLISH
X-WR-CALNAME:Federación de Asociaciones Vecinales de Valladolid
X-ORIGINAL-URL:https://www.vecinosvalladolid.org
X-WR-CALDESC:Eventos para Federación de Asociaciones Vecinales de Valladolid
REFRESH-INTERVAL;VALUE=DURATION:PT1H
X-Robots-Tag:noindex
X-PUBLISHED-TTL:PT1H
BEGIN:VTIMEZONE
TZID:Europe/Madrid
BEGIN:DAYLIGHT
TZOFFSETFROM:+0100
TZOFFSETTO:+0200
TZNAME:CEST
DTSTART:20250330T010000
END:DAYLIGHT
BEGIN:STANDARD
TZOFFSETFROM:+0200
TZOFFSETTO:+0100
TZNAME:CET
DTSTART:20251026T010000
END:STANDARD
BEGIN:DAYLIGHT
TZOFFSETFROM:+0100
TZOFFSETTO:+0200
TZNAME:CEST
DTSTART:20260329T010000
END:DAYLIGHT
BEGIN:STANDARD
TZOFFSETFROM:+0200
TZOFFSETTO:+0100
TZNAME:CET
DTSTART:20261025T010000
END:STANDARD
BEGIN:DAYLIGHT
TZOFFSETFROM:+0100
TZOFFSETTO:+0200
TZNAME:CEST
DTSTART:20270328T010000
END:DAYLIGHT
BEGIN:STANDARD
TZOFFSETFROM:+0200
TZOFFSETTO:+0100
TZNAME:CET
DTSTART:20271031T010000
END:STANDARD
END:VTIMEZONE
BEGIN:VEVENT
DTSTART;TZID=Europe/Madrid:20260115T190000
DTEND;TZID=Europe/Madrid:20260115T203000
DTSTAMP:20260426T033741
CREATED:20260113T120407Z
LAST-MODIFIED:20260113T120407Z
UID:9705-1768503600-1768509000@www.vecinosvalladolid.org
SUMMARY:Visita guiada a la exposición de dibujos a tienta sobre el antiguo Valladolid
DESCRIPTION:El jueves 15 de enero a las 19 horas\, Pascual Aranda autor de los dibujos a tinta sobe el antiguo Valladolid\, realizará una visita guiada a la exposición “Luz Sepia”
URL:https://www.vecinosvalladolid.org/evento/visita-guiada-a-la-exposicion-de-dibujos-a-tienta-sobre-el-antiguo-valladolid/
LOCATION:Sede Federación\, Calle Vega nº 18\, Valladolid\, Valladolid\, 47005\, España
CATEGORIES:Exposición
ATTACH;FMTTYPE=image/png:https://www.vecinosvalladolid.org/wp-content/uploads/2026/01/LUZ-SEPIA-2.png
END:VEVENT
BEGIN:VEVENT
DTSTART;TZID=Europe/Madrid:20260121T193000
DTEND;TZID=Europe/Madrid:20260121T210000
DTSTAMP:20260426T033741
CREATED:20260115T102902Z
LAST-MODIFIED:20260115T102902Z
UID:9708-1769023800-1769029200@www.vecinosvalladolid.org
SUMMARY:Convocatoria comisión de dinamización
DESCRIPTION:El miércoles\, 21 de ENERO del 2026\, a las 19.30 horas\, en la sede de la Federación de Asociaciones Vecinales c/ Vega nº 18 se reunirá la Comisión de dinamización y participación\, a la que estáis expresamente convocados: \n\nTodos los miembros de la Comisión.\nLa Comisión Ejecutiva.\nLos miembros de las asociaciones vecinales que lo deseen o personas a las que estas inviten.\n\ncon el siguiente \n ORDEN DEL DÍA:                   \n\nPremios vecinales: 6 de febrero\, organización\nVarios\n\nValladolid\, 15 de enero de 2026
URL:https://www.vecinosvalladolid.org/evento/convocatoria-comision-de-dinamizacion-10/
LOCATION:Sede Federación\, Calle Vega nº 18\, Valladolid\, Valladolid\, 47005\, España
CATEGORIES:Comisiones
END:VEVENT
BEGIN:VEVENT
DTSTART;TZID=Europe/Madrid:20260122T190000
DTEND;TZID=Europe/Madrid:20260122T203000
DTSTAMP:20260426T033741
CREATED:20260115T103035Z
LAST-MODIFIED:20260115T103035Z
UID:9710-1769108400-1769113800@www.vecinosvalladolid.org
SUMMARY:Convocatoria de Junta Directiva ordinaria
DESCRIPTION:El próximo JUEVES 22 de ENERO de 2026 a las 19 horas\, en la sede de la Federación en la calle Vega nº 18\, tendrás lugar la sesión ordinaria de la Junta Directiva de la Federación de Asociaciones Vecinales de Valladolid con el siguiente: \nORDEN DEL DÍA \n1.- Aprobación\, si procede\, de las actas de la junta directiva del 18 de diciembre de 2025 \n2.- Informe de la ejecutiva \n\nInformación de los/as delegados/as sobre asuntos de las asociaciones vecinales\n\n4.- Presupuestos participativos. \n5.- Asamblea General Ordinaria: fecha y lugar de celebración \n6.- Proyecto de Vivienda de CEAV \n7.- Pingüinos: Solicitud de lo que ha costado al ayuntamiento y propuesta de recurso decreto suspensión de la Zona de Bajas Emisiones (ZBE) \n8.- Aportaciones\, dudas y aclaraciones a los informes de los/as representantes de Federación en consejos\, empresas y fundaciones municipales\, etc; comisiones de trabajo \n9.- Informaciones\, ruegos y preguntas
URL:https://www.vecinosvalladolid.org/evento/convocatoria-de-junta-directiva-ordinaria-5/
LOCATION:Sede Federación\, Calle Vega nº 18\, Valladolid\, Valladolid\, 47005\, España
CATEGORIES:Federación
ORGANIZER;CN="Federaci%C3%B3n Vecinal de Valladolid Antonio Machado":MAILTO:federacion@vecinosvalladolid.org
END:VEVENT
END:VCALENDAR