BEGIN:VCALENDAR
VERSION:2.0
PRODID:-//Federación de Asociaciones Vecinales de Valladolid - ECPv6.15.20//NONSGML v1.0//EN
CALSCALE:GREGORIAN
METHOD:PUBLISH
X-ORIGINAL-URL:https://www.vecinosvalladolid.org
X-WR-CALDESC:Eventos para Federación de Asociaciones Vecinales de Valladolid
REFRESH-INTERVAL;VALUE=DURATION:PT1H
X-Robots-Tag:noindex
X-PUBLISHED-TTL:PT1H
BEGIN:VTIMEZONE
TZID:Europe/Madrid
BEGIN:DAYLIGHT
TZOFFSETFROM:+0100
TZOFFSETTO:+0200
TZNAME:CEST
DTSTART:20220327T010000
END:DAYLIGHT
BEGIN:STANDARD
TZOFFSETFROM:+0200
TZOFFSETTO:+0100
TZNAME:CET
DTSTART:20221030T010000
END:STANDARD
BEGIN:DAYLIGHT
TZOFFSETFROM:+0100
TZOFFSETTO:+0200
TZNAME:CEST
DTSTART:20230326T010000
END:DAYLIGHT
BEGIN:STANDARD
TZOFFSETFROM:+0200
TZOFFSETTO:+0100
TZNAME:CET
DTSTART:20231029T010000
END:STANDARD
BEGIN:DAYLIGHT
TZOFFSETFROM:+0100
TZOFFSETTO:+0200
TZNAME:CEST
DTSTART:20240331T010000
END:DAYLIGHT
BEGIN:STANDARD
TZOFFSETFROM:+0200
TZOFFSETTO:+0100
TZNAME:CET
DTSTART:20241027T010000
END:STANDARD
BEGIN:DAYLIGHT
TZOFFSETFROM:+0100
TZOFFSETTO:+0200
TZNAME:CEST
DTSTART:20250330T010000
END:DAYLIGHT
BEGIN:STANDARD
TZOFFSETFROM:+0200
TZOFFSETTO:+0100
TZNAME:CET
DTSTART:20251026T010000
END:STANDARD
END:VTIMEZONE
BEGIN:VEVENT
DTSTART;TZID=Europe/Madrid:20240715T190000
DTEND;TZID=Europe/Madrid:20240715T203000
DTSTAMP:20260421T011040
CREATED:20240709T094940Z
LAST-MODIFIED:20240709T094940Z
UID:8943-1721070000-1721075400@www.vecinosvalladolid.org
SUMMARY:Convocatoria de Comisión de Ámbito Rural
DESCRIPTION:El LUNES\, 15 de julio del 2024\, a las 19.00 horas\, en Centro Cívico El Cascajo de Laguna de Duero se reunirá la Comisión de ámbito rural\, a la que estáis expresamente convocados: \n\nLas Asociaciones Vecinales de la provincia.\nLa Comisión Ejecutiva.\nLos miembros de las asociaciones vecinales que lo deseen o personas a las que estas inviten.\n\ncon el siguiente \n ORDEN DEL DÍA:           \n\nPreparación reunión Diputación\nVarios\n\nDuración prevista de la reunión: 1h  (de 18.00 a 19.00 horas). \nValladolid\, 8 de julio de 2024 \n  \n 
URL:https://www.vecinosvalladolid.org/evento/convocatoria-de-comision-de-ambito-rural/
LOCATION:CC El Cascajo Laguna de Duero\, c/ San Juan de la Cruz nº 1\, Laguna de Duero\, Valladolid\, 47140\, España
CATEGORIES:Comisiones
END:VEVENT
BEGIN:VEVENT
DTSTART;TZID=Europe/Madrid:20230511T180000
DTEND;TZID=Europe/Madrid:20230511T190000
DTSTAMP:20260421T011040
CREATED:20230505T085612Z
LAST-MODIFIED:20230505T085612Z
UID:6068-1683828000-1683831600@www.vecinosvalladolid.org
SUMMARY:Convocatoria de la Comisión de Ámbito Rural
DESCRIPTION:El JUEVES\, 11 de mayo del 2023\, a las 18.00 horas\, en Centro Cívico El Cascajo de Laguna de Duero (Sala 2.1) se reunirá la Comisión de ámbito rural\, a la que estáis expresamente convocados: \n\nLas Asociaciones Vecinales de la provincia.\nLa Comisión Ejecutiva.\nLos miembros de las asociaciones vecinales que lo deseen o personas a las que estas inviten.\n\ncon el siguiente \n ORDEN DEL DÍA:               \n1.-  Constitución de la comisión \n2.- Plan de trabajo 2023 \n3.- Varios \nDuración prevista de la reunión: 1h  (de 18.00 a 19.00 horas). \nValladolid\, 4 de mayo de 2023
URL:https://www.vecinosvalladolid.org/evento/convocatoria-de-la-comision-de-ambito-rural/
LOCATION:CC El Cascajo Laguna de Duero\, c/ San Juan de la Cruz nº 1\, Laguna de Duero\, Valladolid\, 47140\, España
END:VEVENT
END:VCALENDAR