BEGIN:VCALENDAR
VERSION:2.0
PRODID:-//Federación de Asociaciones Vecinales de Valladolid - ECPv6.15.20//NONSGML v1.0//EN
CALSCALE:GREGORIAN
METHOD:PUBLISH
X-ORIGINAL-URL:https://www.vecinosvalladolid.org
X-WR-CALDESC:Eventos para Federación de Asociaciones Vecinales de Valladolid
REFRESH-INTERVAL;VALUE=DURATION:PT1H
X-Robots-Tag:noindex
X-PUBLISHED-TTL:PT1H
BEGIN:VTIMEZONE
TZID:Europe/Madrid
BEGIN:DAYLIGHT
TZOFFSETFROM:+0100
TZOFFSETTO:+0200
TZNAME:CEST
DTSTART:20210328T010000
END:DAYLIGHT
BEGIN:STANDARD
TZOFFSETFROM:+0200
TZOFFSETTO:+0100
TZNAME:CET
DTSTART:20211031T010000
END:STANDARD
BEGIN:DAYLIGHT
TZOFFSETFROM:+0100
TZOFFSETTO:+0200
TZNAME:CEST
DTSTART:20220327T010000
END:DAYLIGHT
BEGIN:STANDARD
TZOFFSETFROM:+0200
TZOFFSETTO:+0100
TZNAME:CET
DTSTART:20221030T010000
END:STANDARD
BEGIN:DAYLIGHT
TZOFFSETFROM:+0100
TZOFFSETTO:+0200
TZNAME:CEST
DTSTART:20230326T010000
END:DAYLIGHT
BEGIN:STANDARD
TZOFFSETFROM:+0200
TZOFFSETTO:+0100
TZNAME:CET
DTSTART:20231029T010000
END:STANDARD
BEGIN:DAYLIGHT
TZOFFSETFROM:+0100
TZOFFSETTO:+0200
TZNAME:CEST
DTSTART:20240331T010000
END:DAYLIGHT
BEGIN:STANDARD
TZOFFSETFROM:+0200
TZOFFSETTO:+0100
TZNAME:CET
DTSTART:20241027T010000
END:STANDARD
END:VTIMEZONE
BEGIN:VEVENT
DTSTART;TZID=Europe/Madrid:20230413T190000
DTEND;TZID=Europe/Madrid:20230413T203000
DTSTAMP:20260425T235232
CREATED:20230411T104502Z
LAST-MODIFIED:20230412T072850Z
UID:5911-1681412400-1681417800@www.vecinosvalladolid.org
SUMMARY:¿Qué está pasando con el sistema sanitario público?
DESCRIPTION:Jueves 13 de abril a las 18 horas. \nLugar: Sala 13 Centro Cívico Rondilla \nPlataforma Sanidad Pública- AV Rondilla
URL:https://www.vecinosvalladolid.org/evento/que-esta-pasando-con-el-sistema-sanitario-publico-2/
LOCATION:CC Rondilla\, Plaza Alberto Fernández nº 3\, Valladolid\, 47010\, España
CATEGORIES:Sanidad
ATTACH;FMTTYPE=image/jpeg:https://www.vecinosvalladolid.org/wp-content/uploads/2023/04/sanidad.jpg
END:VEVENT
BEGIN:VEVENT
DTSTART;TZID=Europe/Madrid:20221223T200000
DTEND;TZID=Europe/Madrid:20221223T213000
DTSTAMP:20260425T235232
CREATED:20221220T105100Z
LAST-MODIFIED:20221220T105120Z
UID:5190-1671825600-1671831000@www.vecinosvalladolid.org
SUMMARY:Concierto de Navidad\, Asociación Musical Villa de Olmedo
DESCRIPTION:Este viernes\, 23 de diciembre a las 20 horas en el CC Rondilla\, concierto de navidad de la Asociación Musical Villa de Olmedo\, organizado por la Asociación Vecinal Rondilla. Entrada gratuita hasta completar aforo\, previa recogida de invitaciones en Centro Cívico. \nLa Banda Municipal de Música de Olmedo nació en el año 1993 como fruto de la escuela de música\, creada por el Exmo. Ayuntamiento y bajo la dirección de D. José Martín Salamanca. En la actualidad la banda\, esta compuesta por mas de 45 miembros\, en su mayoría jóvenes pertenecientes a la Escuela de Musica. A partir del año 2004 su director es D. Emilio Gonzalez Lorenzo.
URL:https://www.vecinosvalladolid.org/evento/concierto-de-navidad-asociacion-musical-villa-de-olmedo/
LOCATION:CC Rondilla\, Plaza Alberto Fernández nº 3\, Valladolid\, 47010\, España
CATEGORIES:Cultura
ATTACH;FMTTYPE=image/jpeg:https://www.vecinosvalladolid.org/wp-content/uploads/2022/12/Navidad-Rondilla-2022.jpeg
END:VEVENT
END:VCALENDAR