BEGIN:VCALENDAR
VERSION:2.0
PRODID:-//Federación de Asociaciones Vecinales de Valladolid - ECPv6.15.20//NONSGML v1.0//EN
CALSCALE:GREGORIAN
METHOD:PUBLISH
X-WR-CALNAME:Federación de Asociaciones Vecinales de Valladolid
X-ORIGINAL-URL:https://www.vecinosvalladolid.org
X-WR-CALDESC:Eventos para Federación de Asociaciones Vecinales de Valladolid
REFRESH-INTERVAL;VALUE=DURATION:PT1H
X-Robots-Tag:noindex
X-PUBLISHED-TTL:PT1H
BEGIN:VTIMEZONE
TZID:Europe/Madrid
BEGIN:DAYLIGHT
TZOFFSETFROM:+0100
TZOFFSETTO:+0200
TZNAME:CEST
DTSTART:20210328T010000
END:DAYLIGHT
BEGIN:STANDARD
TZOFFSETFROM:+0200
TZOFFSETTO:+0100
TZNAME:CET
DTSTART:20211031T010000
END:STANDARD
BEGIN:DAYLIGHT
TZOFFSETFROM:+0100
TZOFFSETTO:+0200
TZNAME:CEST
DTSTART:20220327T010000
END:DAYLIGHT
BEGIN:STANDARD
TZOFFSETFROM:+0200
TZOFFSETTO:+0100
TZNAME:CET
DTSTART:20221030T010000
END:STANDARD
BEGIN:DAYLIGHT
TZOFFSETFROM:+0100
TZOFFSETTO:+0200
TZNAME:CEST
DTSTART:20230326T010000
END:DAYLIGHT
BEGIN:STANDARD
TZOFFSETFROM:+0200
TZOFFSETTO:+0100
TZNAME:CET
DTSTART:20231029T010000
END:STANDARD
END:VTIMEZONE
BEGIN:VEVENT
DTSTART;TZID=Europe/Madrid:20220608T193000
DTEND;TZID=Europe/Madrid:20220608T213000
DTSTAMP:20260421T200602
CREATED:20220603T113828Z
LAST-MODIFIED:20220603T113828Z
UID:3907-1654716600-1654723800@www.vecinosvalladolid.org
SUMMARY:Las obras de rehabilitación en la dársena de Valladolid
DESCRIPTION:El 8 de junio en el Centro Cívico “Canal de Castilla” a las 19:30 horas\, la asociación vecinal “Los Comuneros” del barrio de La Victoria\, organiza una charla sobre “Las obras de rehabilitación en la dársena de Valladolid. \nPONENTES: \n\nSofía Soto\, Secretaria General de la Confederación Hidrográfica del Duero\nNuria Blanco\, Arquitecta técnica de la Conferencia Hidrográfica del Duero\nPablo San Juan\, Arquitecto empresa TRAGSATEC
URL:https://www.vecinosvalladolid.org/evento/las-obras-de-rehabilitacion-en-la-darsena-de-valladolid/
LOCATION:Centro Cívico Canal de Castilla\, Paseo Jardín Botánico nº 4\, valladolid\, 47009\, España
CATEGORIES:Asociaciones
ATTACH;FMTTYPE=image/jpeg:https://www.vecinosvalladolid.org/wp-content/uploads/2022/06/22_06_08-Cartel-CHD_001.jpg
END:VEVENT
END:VCALENDAR