BEGIN:VCALENDAR
VERSION:2.0
PRODID:-//Federación de Asociaciones Vecinales de Valladolid - ECPv6.15.20//NONSGML v1.0//EN
CALSCALE:GREGORIAN
METHOD:PUBLISH
X-ORIGINAL-URL:https://www.vecinosvalladolid.org
X-WR-CALDESC:Eventos para Federación de Asociaciones Vecinales de Valladolid
REFRESH-INTERVAL;VALUE=DURATION:PT1H
X-Robots-Tag:noindex
X-PUBLISHED-TTL:PT1H
BEGIN:VTIMEZONE
TZID:Europe/Madrid
BEGIN:DAYLIGHT
TZOFFSETFROM:+0100
TZOFFSETTO:+0200
TZNAME:CEST
DTSTART:20210328T010000
END:DAYLIGHT
BEGIN:STANDARD
TZOFFSETFROM:+0200
TZOFFSETTO:+0100
TZNAME:CET
DTSTART:20211031T010000
END:STANDARD
BEGIN:DAYLIGHT
TZOFFSETFROM:+0100
TZOFFSETTO:+0200
TZNAME:CEST
DTSTART:20220327T010000
END:DAYLIGHT
BEGIN:STANDARD
TZOFFSETFROM:+0200
TZOFFSETTO:+0100
TZNAME:CET
DTSTART:20221030T010000
END:STANDARD
BEGIN:DAYLIGHT
TZOFFSETFROM:+0100
TZOFFSETTO:+0200
TZNAME:CEST
DTSTART:20230326T010000
END:DAYLIGHT
BEGIN:STANDARD
TZOFFSETFROM:+0200
TZOFFSETTO:+0100
TZNAME:CET
DTSTART:20231029T010000
END:STANDARD
END:VTIMEZONE
BEGIN:VEVENT
DTSTART;TZID=Europe/Madrid:20221201T120000
DTEND;TZID=Europe/Madrid:20221201T133000
DTSTAMP:20260420T040152
CREATED:20221128T112650Z
LAST-MODIFIED:20221128T112650Z
UID:4952-1669896000-1669901400@www.vecinosvalladolid.org
SUMMARY:Sistema arbitral de consumo
DESCRIPTION:Conoce este instrumento extrajudicial de resolución de conflictos para reclamar tus derechos. \nPONENTE: Pablo Andrés Gerbolés\, Departamento jurídico de Facua Castilla y León \nLugar: sala del mercado Delicias \n¿Cuándo?: Jueves 1 de diciembre a las 12 horas
URL:https://www.vecinosvalladolid.org/evento/sistema-arbitral-de-consumo/
LOCATION:Mercado Delicias\, Paseo de San Vicente nº 12\, valladolid\, 47012\, España
CATEGORIES:Consumo,Derechos
ATTACH;FMTTYPE=image/jpeg:https://www.vecinosvalladolid.org/wp-content/uploads/2022/11/CartelFACUACyL_charladelicias_001.jpg
END:VEVENT
END:VCALENDAR